BEGIN:VCALENDAR
VERSION:2.0
PRODID:-//Evenementen in Ameide en Tienhoven aan de Lek - ECPv6.15.17.1//NONSGML v1.0//EN
CALSCALE:GREGORIAN
METHOD:PUBLISH
X-WR-CALNAME:Evenementen in Ameide en Tienhoven aan de Lek
X-ORIGINAL-URL:https://www.termeise-evenementen.nl
X-WR-CALDESC:Evenementen voor Evenementen in Ameide en Tienhoven aan de Lek
REFRESH-INTERVAL;VALUE=DURATION:PT1H
X-Robots-Tag:noindex
X-PUBLISHED-TTL:PT1H
BEGIN:VTIMEZONE
TZID:Europe/Amsterdam
BEGIN:DAYLIGHT
TZOFFSETFROM:+0100
TZOFFSETTO:+0200
TZNAME:CEST
DTSTART:20250330T010000
END:DAYLIGHT
BEGIN:STANDARD
TZOFFSETFROM:+0200
TZOFFSETTO:+0100
TZNAME:CET
DTSTART:20251026T010000
END:STANDARD
BEGIN:DAYLIGHT
TZOFFSETFROM:+0100
TZOFFSETTO:+0200
TZNAME:CEST
DTSTART:20260329T010000
END:DAYLIGHT
BEGIN:STANDARD
TZOFFSETFROM:+0200
TZOFFSETTO:+0100
TZNAME:CET
DTSTART:20261025T010000
END:STANDARD
BEGIN:DAYLIGHT
TZOFFSETFROM:+0100
TZOFFSETTO:+0200
TZNAME:CEST
DTSTART:20270328T010000
END:DAYLIGHT
BEGIN:STANDARD
TZOFFSETFROM:+0200
TZOFFSETTO:+0100
TZNAME:CET
DTSTART:20271031T010000
END:STANDARD
END:VTIMEZONE
BEGIN:VEVENT
DTSTART;TZID=Europe/Amsterdam:20260514T170000
DTEND;TZID=Europe/Amsterdam:20260515T000000
DTSTAMP:20260423T163322
CREATED:20260421T162802Z
LAST-MODIFIED:20260421T173814Z
UID:10000010-1778778000-1778803200@www.termeise-evenementen.nl
SUMMARY:(bijna) 5 jaar Café lekzicht
DESCRIPTION:augustus bestaat Café Lekzicht 5 jaar \, maar dit vieren we op donderdag 14 mei.\nDe 2e donderdag van mei is het groot feest vanaf 17:00 uur.\nLive die avond komen Rocky Pauw en René Eshuijs optreden.
URL:https://www.termeise-evenementen.nl/evenement/bijna-5-jaar-cafe-lekzicht/
LOCATION:Café Lekzicht\, Lekdijk 30\, Ameide\, 4233 CL\, Netherlands
ATTACH;FMTTYPE=image/jpeg:https://www.termeise-evenementen.nl/wp-content/uploads/2026/04/WhatsApp-Image-2026-04-21-at-18.44.56.jpeg
END:VEVENT
BEGIN:VEVENT
DTSTART;TZID=Europe/Amsterdam:20260613T200000
DTEND;TZID=Europe/Amsterdam:20260614T020000
DTSTAMP:20260423T163322
CREATED:20260421T174337Z
LAST-MODIFIED:20260421T174337Z
UID:10000013-1781380800-1781402400@www.termeise-evenementen.nl
SUMMARY:Hollandse Avond
DESCRIPTION:13 juni is er weer een gezellige hollandse avond in café Lekzicht.\nMet dj en live zanger Youri van Arnhem.\nGratis entree.
URL:https://www.termeise-evenementen.nl/evenement/hollandse-avond/
LOCATION:Café Lekzicht\, Lekdijk 30\, Ameide\, 4233 CL\, Netherlands
ATTACH;FMTTYPE=image/jpeg:https://www.termeise-evenementen.nl/wp-content/uploads/2026/04/Zonder-titel-16-x-9-cm.jpg
END:VEVENT
END:VCALENDAR