BEGIN:VCALENDAR
VERSION:2.0
PRODID:-//Evenementen in Ameide en Tienhoven aan de Lek - ECPv6.15.17.1//NONSGML v1.0//EN
CALSCALE:GREGORIAN
METHOD:PUBLISH
X-WR-CALNAME:Evenementen in Ameide en Tienhoven aan de Lek
X-ORIGINAL-URL:https://www.termeise-evenementen.nl
X-WR-CALDESC:Evenementen voor Evenementen in Ameide en Tienhoven aan de Lek
REFRESH-INTERVAL;VALUE=DURATION:PT1H
X-Robots-Tag:noindex
X-PUBLISHED-TTL:PT1H
BEGIN:VTIMEZONE
TZID:Europe/Amsterdam
BEGIN:DAYLIGHT
TZOFFSETFROM:+0100
TZOFFSETTO:+0200
TZNAME:CEST
DTSTART:20250330T010000
END:DAYLIGHT
BEGIN:STANDARD
TZOFFSETFROM:+0200
TZOFFSETTO:+0100
TZNAME:CET
DTSTART:20251026T010000
END:STANDARD
BEGIN:DAYLIGHT
TZOFFSETFROM:+0100
TZOFFSETTO:+0200
TZNAME:CEST
DTSTART:20260329T010000
END:DAYLIGHT
BEGIN:STANDARD
TZOFFSETFROM:+0200
TZOFFSETTO:+0100
TZNAME:CET
DTSTART:20261025T010000
END:STANDARD
BEGIN:DAYLIGHT
TZOFFSETFROM:+0100
TZOFFSETTO:+0200
TZNAME:CEST
DTSTART:20270328T010000
END:DAYLIGHT
BEGIN:STANDARD
TZOFFSETFROM:+0200
TZOFFSETTO:+0100
TZNAME:CET
DTSTART:20271031T010000
END:STANDARD
END:VTIMEZONE
BEGIN:VEVENT
DTSTART;TZID=Europe/Amsterdam:20260710T190000
DTEND;TZID=Europe/Amsterdam:20260710T230000
DTSTAMP:20260423T163636
CREATED:20260421T162631Z
LAST-MODIFIED:20260421T162631Z
UID:10000012-1783710000-1783724400@www.termeise-evenementen.nl
SUMMARY:Cocktailtoernooi T.V. Meihoven
DESCRIPTION:Op 10 juli vanaf 19:00 uur organiseert T.V. Meihoven weer een Supertiebreak Cocktailtoernooi! Na een geslaagde avond vorig jaar willen we jullie ook dit jaar weer uitnodigen om onder het genot van verschillende cocktails en wat lekkers van de BBQ een balletje te komen slaan. Tot dan!
URL:https://www.termeise-evenementen.nl/evenement/cocktailtoernooi-t-v-meihoven/
LOCATION:T.V. Meihoven\, Meihoven 1\, Tienhoven aan de Lek\, Utrecht\, 4235VJ\, Netherlands
ATTACH;FMTTYPE=image/jpeg:https://www.termeise-evenementen.nl/wp-content/uploads/2026/04/IMG_8304.jpeg
ORGANIZER;CN="T.V. Meihoven":MAILTO:Info@tvmeihoven.nl
END:VEVENT
END:VCALENDAR